BEGIN:VCALENDAR
VERSION:2.0
CALSCALE:GREGORIAN
PRODID:-//Diputació de Barcelona//DibaCMS//EN
BEGIN:VEVENT
UID:26765
DTSTAMP:20260420T192829
DTSTART:20260602T173000
DTEND:20260602T183000
SUMMARY:Xerrades de divulgació mèdica
LOCATION:Pablo Ruiz Picasso, 32 08130 Santa Perpètua de Mogoda
METHOD:PUBLISH
X-WR-CALNAME:comunicacio@staperpetua.cat
X-WR-TIMEZONE:Europe/Madrid
DESCRIPTION:"Tenim aparell reproductor" xerrada sobre fibromiàlgia a càrrec de la Dra de família Raquel Tomàs i Tutusaus.

URI:https://www.staperpetua.cat/actualitat/agenda/26765-xerrades-de-divulgacio-medica.html
CLASS:PUBLIC
END:VEVENT
END:VCALENDAR
