BEGIN:VCALENDAR
VERSION:2.0
CALSCALE:GREGORIAN
PRODID:-//Diputació de Barcelona//DibaCMS//EN
BEGIN:VEVENT
UID:26764
DTSTAMP:20260424T211004
DTSTART:20260430T173000
DTEND:20260430T183000
SUMMARY:Xerrades de divulgació mèdica
LOCATION:Avinguda Set, 20  08130 La Florida
METHOD:PUBLISH
X-WR-CALNAME:comunicacio@staperpetua.cat
X-WR-TIMEZONE:Europe/Madrid
DESCRIPTION:"Tenim aparell reproductor" xerrada sobre osteoporosis a càrrec de la Dra de família Raquel Tomàs i Tutusaus.

URI:https://www.staperpetua.cat/actualitat/agenda/xerrades-de-divulgacio-medica.html
CLASS:PUBLIC
END:VEVENT
END:VCALENDAR
