BEGIN:VCALENDAR
VERSION:2.0
CALSCALE:GREGORIAN
PRODID:-//Diputació de Barcelona//DibaCMS//EN
BEGIN:VEVENT
UID:26739
DTSTAMP:20260424T142548
DTSTART:20260419T130000
DTEND:20260419T140000
SUMMARY:Casal Popular - Presentació "Camins inesperats"
LOCATION:Plaça Francesc Macià  08130 Santa Perpètua de Mogoda
METHOD:PUBLISH
X-WR-CALNAME:comunicacio@staperpetua.cat
X-WR-TIMEZONE:Europe/Madrid
DESCRIPTION:Presentació de la primera publicació dedicada al senderisme a Santa Perpètua, “Camins inesperats: Natura i patrimoni a Santa Perpètua de Mogoda” a càrrec de l'autor Josep Matas Castañeda.

URI:https://www.staperpetua.cat/actualitat/agenda/casal-popular-presentacio-camins-inesperats.html
CLASS:PUBLIC
END:VEVENT
END:VCALENDAR
