BEGIN:VCALENDAR
VERSION:2.0
CALSCALE:GREGORIAN
PRODID:-//Diputació de Barcelona//DibaCMS//EN
BEGIN:VEVENT
UID:26729
DTSTAMP:20260422T071916
DTSTART:20260509T235900
DTEND:20260510T063000
SUMMARY:Esplai el Refugi - 60 anys - CAMpaments
LOCATION:Camí de l'Aplec, s/n 08130 Santa Perpètua de Mogoda
METHOD:PUBLISH
X-WR-CALNAME:comunicacio@staperpetua.cat
X-WR-TIMEZONE:Europe/Madrid
DESCRIPTION:El "Refu" celebra el seu 60è aniversari: "60 anys fent refugi" amb una sessió a CAM Bernades.

URI:https://www.staperpetua.cat/actualitat/agenda/esplai-el-refugi-60-anys-campaments.html
CLASS:PUBLIC
END:VEVENT
END:VCALENDAR
