BEGIN:VCALENDAR
VERSION:2.0
CALSCALE:GREGORIAN
PRODID:-//Diputació de Barcelona//DibaCMS//EN
BEGIN:VEVENT
UID:22738
DTSTAMP:20260420T163754
DTSTART:20260308T113000
DTEND:20260308T130000
SUMMARY:Exhibició de balls
LOCATION:Avinguda de l'Onze de Setembre  08130 Santa Perpètua de Mogoda
METHOD:PUBLISH
X-WR-CALNAME:comunicacio@staperpetua.cat
X-WR-TIMEZONE:Europe/Madrid
DESCRIPTION:Exhibició de balls.

URI:https://www.staperpetua.cat/temes/festa-major-dhivern/programa-de-la-festa-major-dhivern/exhibicio-de-balls.html
CLASS:PUBLIC
END:VEVENT
END:VCALENDAR
