BEGIN:VCALENDAR
VERSION:2.0
CALSCALE:GREGORIAN
PRODID:-//Diputació de Barcelona//DibaCMS//EN
BEGIN:VEVENT
UID:22512
DTSTAMP:20260420T103300
DTSTART:20260602T193000
DTEND:20260602T210000
SUMMARY:AEU - DRET
LOCATION:Carrer Enric Granados 16  08130 Santa Perpètua de Mogoda
METHOD:PUBLISH
X-WR-CALNAME:comunicacio@staperpetua.cat
X-WR-TIMEZONE:Europe/Madrid
DESCRIPTION:Conferència "Les herències què cal saber al planificar la successió?". A càrrec de Rosa Torra Bernaus, Llicenciada en Dret i Inspectora tributària de l’Agència tributària de Catalunya.

URI:https://www.staperpetua.cat/actualitat/agenda/aeu-dret.html
CLASS:PUBLIC
END:VEVENT
END:VCALENDAR
