BEGIN:VCALENDAR
VERSION:2.0
CALSCALE:GREGORIAN
PRODID:-//Diputació de Barcelona//DibaCMS//EN
BEGIN:VEVENT
UID:21481
DTSTAMP:20260420T120432
DTSTART:20260606T180000
DTEND:20260606T233000
SUMMARY:XI Dia Mundial del Medi Ambient
LOCATION: 08130 Santa Perpètua de Mogoda
METHOD:PUBLISH
X-WR-CALNAME:comunicacio@staperpetua.cat
X-WR-TIMEZONE:Europe/Madrid
DESCRIPTION:En commemoració d'aquest dia, el CREM, Amics de Santiga, Viu la Riera i Cineclub Cisco Mosenya organitzen un seguit d'activitats:

URI:https://www.staperpetua.cat/actualitat/agenda/xi-dia-mundial-del-medi-ambient.html
CLASS:PUBLIC
END:VEVENT
END:VCALENDAR
