BEGIN:VCALENDAR
VERSION:2.0
CALSCALE:GREGORIAN
PRODID:-//Diputació de Barcelona//DibaCMS//EN
BEGIN:VEVENT
UID:21466
DTSTAMP:20260424T170652
DTSTART:20260511T150000
DTEND:20260511T230000
SUMMARY:Aules d'estudi
LOCATION:Passatge del Mas Granollacs, s/n  08130 Santa Perpètua de Mogoda
METHOD:PUBLISH
X-WR-CALNAME:comunicacio@staperpetua.cat
X-WR-TIMEZONE:Europe/Madrid
DESCRIPTION:De l'11 de maig a l'11 de juny.

URI:https://www.staperpetua.cat/actualitat/agenda/aules-destudi.html
CLASS:PUBLIC
END:VEVENT
END:VCALENDAR
