BEGIN:VCALENDAR
VERSION:2.0
CALSCALE:GREGORIAN
PRODID:-//Diputació de Barcelona//DibaCMS//EN
BEGIN:VEVENT
UID:21059
DTSTAMP:20260420T194933
DTSTART:20260510T090000
DTEND:20260510T130000
SUMMARY:XLII Festa de l'Arbre i XXXVI d'Homenatge als Poetes
LOCATION:Santiga  08130 Santa Perpètua de Mogoda
METHOD:PUBLISH
X-WR-CALNAME:comunicacio@staperpetua.cat
X-WR-TIMEZONE:Europe/Madrid
DESCRIPTION:Festa cultural d'interès local.

Homenatge a Susanna Rafart (Ripoll, 3 de setembre de 1962). Poeta i autora de prosa de ficció i d'assaig. Llicenciada en Filologia Hispànica (1985) i Filologia Catalana (1992) per la Universitat Autònoma de Barcelona

URI:https://www.staperpetua.cat/actualitat/agenda/xlii-festa-de-larbre-i-xxxvi-dhomenatge-als-poetes.html
CLASS:PUBLIC
END:VEVENT
END:VCALENDAR
